BEGIN:VCALENDAR
VERSION:2.0
PRODID:-//The Chesapeake Division - ECPv5.7.0//NONSGML v1.0//EN
CALSCALE:GREGORIAN
METHOD:PUBLISH
X-WR-CALNAME:The Chesapeake Division
X-ORIGINAL-URL:https://chesdiv-nmra.org
X-WR-CALDESC:Events for The Chesapeake Division
BEGIN:VTIMEZONE
TZID:America/New_York
BEGIN:DAYLIGHT
TZOFFSETFROM:-0500
TZOFFSETTO:-0400
TZNAME:EDT
DTSTART:20230312T070000
END:DAYLIGHT
BEGIN:STANDARD
TZOFFSETFROM:-0400
TZOFFSETTO:-0500
TZNAME:EST
DTSTART:20231105T060000
END:STANDARD
END:VTIMEZONE
BEGIN:VEVENT
DTSTART;TZID=America/New_York:20230715T100000
DTEND;TZID=America/New_York:20230715T123000
DTSTAMP:20260422T190122
CREATED:20230709T223853Z
LAST-MODIFIED:20230709T223853Z
UID:647-1689415200-1689424200@chesdiv-nmra.org
SUMMARY:Using TinkerCAD
DESCRIPTION:Kurt Thompson\, MMR will present a hands-on (computer) session titled “Using TinkerCAD\,” a prelude to 3D printing. The clinic will be held in the Computer Room of the Anne Arundel County Library\, Odenton Branch\, which has limited seating for 19 attendees. Please preregister with Tim Beaty\, our Division Clerk (or contact the Division Superintendent at the address listed on our Chesapeake Division Officers & Staff webpage at the Division website). \nThere should be computers for everyone but if you like\, you may bring your own laptop. \nThere is a simple prerequisite for the clinic: Register as a user at the TinkerCAD website (https://www.tinkercad.com/). User accounts are free.
URL:https://chesdiv-nmra.org/events/using-tinkercad/
LOCATION:Anne Arundel County Library â€“ Odenton Branch\, 1325 Annapolis Road\, Odenton\, MD\, 21113\, United States
END:VEVENT
END:VCALENDAR