BEGIN:VCALENDAR
VERSION:2.0
PRODID:-//The Chesapeake Division - ECPv5.7.0//NONSGML v1.0//EN
CALSCALE:GREGORIAN
METHOD:PUBLISH
X-WR-CALNAME:The Chesapeake Division
X-ORIGINAL-URL:https://chesdiv-nmra.org
X-WR-CALDESC:Events for The Chesapeake Division
BEGIN:VTIMEZONE
TZID:America/New_York
BEGIN:DAYLIGHT
TZOFFSETFROM:-0500
TZOFFSETTO:-0400
TZNAME:EDT
DTSTART:20240310T070000
END:DAYLIGHT
BEGIN:STANDARD
TZOFFSETFROM:-0400
TZOFFSETTO:-0500
TZNAME:EST
DTSTART:20241103T060000
END:STANDARD
END:VTIMEZONE
BEGIN:VEVENT
DTSTART;VALUE=DATE:20240804
DTEND;VALUE=DATE:20240812
DTSTAMP:20260422T175832
CREATED:20240803T001338Z
LAST-MODIFIED:20240803T001427Z
UID:703-1722729600-1723420799@chesdiv-nmra.org
SUMMARY:SurfLiner 2024 NMRA National Convention
DESCRIPTION:The NMRA National Convention and National Train Show will be held in the PSR this year in Long Beach\, CA from August 4-11\, 2024. Please visit https://surfliner2024.org/ for more information.
URL:https://chesdiv-nmra.org/events/surfliner-2024-nmra-national-convention/
LOCATION:The Westin Long Beach\, 333 East Ocean Boulevard\, Long Beach\, CA\, 90802\, United States
END:VEVENT
END:VCALENDAR