BEGIN:VCALENDAR
VERSION:2.0
PRODID:-//The Chesapeake Division - ECPv5.7.0//NONSGML v1.0//EN
CALSCALE:GREGORIAN
METHOD:PUBLISH
X-WR-CALNAME:The Chesapeake Division
X-ORIGINAL-URL:https://chesdiv-nmra.org
X-WR-CALDESC:Events for The Chesapeake Division
BEGIN:VTIMEZONE
TZID:America/New_York
BEGIN:DAYLIGHT
TZOFFSETFROM:-0500
TZOFFSETTO:-0400
TZNAME:EDT
DTSTART:20240310T070000
END:DAYLIGHT
BEGIN:STANDARD
TZOFFSETFROM:-0400
TZOFFSETTO:-0500
TZNAME:EST
DTSTART:20241103T060000
END:STANDARD
END:VTIMEZONE
BEGIN:VEVENT
DTSTART;TZID=America/New_York:20240203T090000
DTEND;TZID=America/New_York:20240203T170000
DTSTAMP:20260422T180442
CREATED:20231210T165233Z
LAST-MODIFIED:20231210T165233Z
UID:657-1706950800-1706979600@chesdiv-nmra.org
SUMMARY:Great Scale Model Train Show
DESCRIPTION:The Chesapeake Division will be present at the February Great Scale Model Train Show.
URL:https://chesdiv-nmra.org/events/great-scale-model-train-show-5/
LOCATION:Maryland State Fairgrounds\, 2200 York Rd\, Timonium\, MD 21093\, MD\, 21093\, United States
END:VEVENT
END:VCALENDAR