BEGIN:VCALENDAR
VERSION:2.0
PRODID:-//The Chesapeake Division - ECPv5.7.0//NONSGML v1.0//EN
CALSCALE:GREGORIAN
METHOD:PUBLISH
X-WR-CALNAME:The Chesapeake Division
X-ORIGINAL-URL:https://chesdiv-nmra.org
X-WR-CALDESC:Events for The Chesapeake Division
BEGIN:VTIMEZONE
TZID:America/New_York
BEGIN:DAYLIGHT
TZOFFSETFROM:-0500
TZOFFSETTO:-0400
TZNAME:EDT
DTSTART:20220313T070000
END:DAYLIGHT
BEGIN:STANDARD
TZOFFSETFROM:-0400
TZOFFSETTO:-0500
TZNAME:EST
DTSTART:20221106T060000
END:STANDARD
END:VTIMEZONE
BEGIN:VEVENT
DTSTART;TZID=America/New_York:20221020T120000
DTEND;TZID=America/New_York:20221023T170000
DTSTAMP:20260422T202412
CREATED:20191231T002826Z
LAST-MODIFIED:20220717T222210Z
UID:354-1666267200-1666544400@chesdiv-nmra.org
SUMMARY:2022 MER Convention
DESCRIPTION:Carolina Special Look South in 2022 \nThe Carolina Southern Division is proud to be the sponsor of the 2022 Convention of the Mid-Eastern Region of the National Model Railroad Association called the CAROLINA SPECIAL which will be held in Charlotte\, North Carolina. This annual event provides a venue for NMRA Model Railroaders from Maryland\, Virginia\, Delaware\, and the District of Columbia\, plus parts of New Jersey\, Pennsylvania\, West Virginia\, and North and South Carolina to gather and share their craftsmanship and skill\, enjoy the fellowship of fellow ferroequinologists\, visit local layouts and prototype rail operations\, and to generally have a good time.
URL:https://chesdiv-nmra.org/events/2022-mer-convention/
LOCATION:Hilton Charlotte University Place\, 8629 JM Keynes Drive\, Charlotte\, NC\, 28262\, United States
CATEGORIES:Convention
ATTACH;FMTTYPE=image/png:https://chesdiv-nmra.org/wp-content/uploads/2019/12/CSD-Carolina-Special-2022-4-less_style_statemaps_35x35.png
END:VEVENT
END:VCALENDAR